Package: MANOR Version: 1.70.0 Command: rm -rf MANOR.buildbin-libdir && mkdir MANOR.buildbin-libdir && /Users/biocbuild/BBS/utils/build-universal.sh MANOR_1.70.0.tar.gz /Library/Frameworks/R.framework/Resources/bin/R MANOR.buildbin-libdir StartedAt: 2023-04-18 16:56:02 -0400 (Tue, 18 Apr 2023) EndedAt: 2023-04-18 16:56:18 -0400 (Tue, 18 Apr 2023) EllapsedTime: 15.9 seconds RetCode: 0 Status: OK PackageFile: MANOR_1.70.0.tgz PackageFileSize: 1.504 MiB