Package: MADSEQ Version: 1.24.0 Command: /Library/Frameworks/R.framework/Resources/bin/R CMD INSTALL MADSEQ StartedAt: 2023-04-16 16:46:48 -0400 (Sun, 16 Apr 2023) EndedAt: 2023-04-16 16:48:08 -0400 (Sun, 16 Apr 2023) EllapsedTime: 80.1 seconds RetCode: 0 Status: OK