Package: MADSEQ Version: 1.24.0 Command: /Library/Frameworks/R.framework/Resources/bin/R CMD build --keep-empty-dirs --no-resave-data MADSEQ StartedAt: 2023-04-17 12:46:19 -0400 (Mon, 17 Apr 2023) EndedAt: 2023-04-17 12:47:53 -0400 (Mon, 17 Apr 2023) EllapsedTime: 94.3 seconds RetCode: 0 Status: OK PackageFile: MADSEQ_1.24.0.tar.gz PackageFileSize: 1.958 MiB