Package: MADSEQ Version: 1.24.0 Command: rm -rf MADSEQ.buildbin-libdir && mkdir MADSEQ.buildbin-libdir && /Users/biocbuild/BBS/utils/build-universal.sh MADSEQ_1.24.0.tar.gz /Library/Frameworks/R.framework/Resources/bin/R MADSEQ.buildbin-libdir StartedAt: 2023-04-18 16:53:56 -0400 (Tue, 18 Apr 2023) EndedAt: 2023-04-18 16:55:42 -0400 (Tue, 18 Apr 2023) EllapsedTime: 106.1 seconds RetCode: 0 Status: OK PackageFile: MADSEQ_1.24.0.tgz PackageFileSize: 2.339 MiB