Package: M3C Version: 1.20.0 Command: /Library/Frameworks/R.framework/Resources/bin/R CMD INSTALL M3C StartedAt: 2023-04-16 14:40:33 -0400 (Sun, 16 Apr 2023) EndedAt: 2023-04-16 14:40:50 -0400 (Sun, 16 Apr 2023) EllapsedTime: 16.7 seconds RetCode: 0 Status: OK