Package: M3C Version: 1.20.0 Command: /Library/Frameworks/R.framework/Resources/bin/R CMD build --keep-empty-dirs --no-resave-data M3C StartedAt: 2023-04-17 12:36:31 -0400 (Mon, 17 Apr 2023) EndedAt: 2023-04-17 12:37:33 -0400 (Mon, 17 Apr 2023) EllapsedTime: 61.8 seconds RetCode: 0 Status: OK PackageFile: M3C_1.20.0.tar.gz PackageFileSize: 589.3 KiB