Package: LinTInd Version: 1.2.0 Command: /Library/Frameworks/R.framework/Resources/bin/R CMD INSTALL LinTInd StartedAt: 2023-04-16 16:00:00 -0400 (Sun, 16 Apr 2023) EndedAt: 2023-04-16 16:00:30 -0400 (Sun, 16 Apr 2023) EllapsedTime: 29.8 seconds RetCode: 0 Status: OK