Package: LinTInd Version: 1.2.0 Command: rm -rf LinTInd.buildbin-libdir && mkdir LinTInd.buildbin-libdir && /Users/biocbuild/BBS/utils/build-universal.sh LinTInd_1.2.0.tar.gz /Library/Frameworks/R.framework/Resources/bin/R LinTInd.buildbin-libdir StartedAt: 2023-04-18 16:49:49 -0400 (Tue, 18 Apr 2023) EndedAt: 2023-04-18 16:50:24 -0400 (Tue, 18 Apr 2023) EllapsedTime: 35.3 seconds RetCode: 0 Status: OK PackageFile: LinTInd_1.2.0.tgz PackageFileSize: 639.5 KiB