Package: KinSwingR Version: 1.16.0 Command: /Library/Frameworks/R.framework/Resources/bin/R CMD INSTALL KinSwingR StartedAt: 2023-04-16 15:42:33 -0400 (Sun, 16 Apr 2023) EndedAt: 2023-04-16 15:42:43 -0400 (Sun, 16 Apr 2023) EllapsedTime: 10.2 seconds RetCode: 0 Status: OK