Package: InterMineR Version: 1.20.0 Command: rm -rf InterMineR.buildbin-libdir && mkdir InterMineR.buildbin-libdir && /Users/biocbuild/BBS/utils/build-universal.sh InterMineR_1.20.0.tar.gz /Library/Frameworks/R.framework/Resources/bin/R InterMineR.buildbin-libdir StartedAt: 2023-04-18 16:38:31 -0400 (Tue, 18 Apr 2023) EndedAt: 2023-04-18 16:39:36 -0400 (Tue, 18 Apr 2023) EllapsedTime: 64.8 seconds RetCode: 0 Status: OK PackageFile: InterMineR_1.20.0.tgz PackageFileSize: 746.5 KiB