Package: HPAanalyze
Version: 1.16.0
Command: /Library/Frameworks/R.framework/Resources/bin/R CMD INSTALL HPAanalyze
StartedAt: 2023-04-16 14:38:36 -0400 (Sun, 16 Apr 2023)
EndedAt: 2023-04-16 14:39:55 -0400 (Sun, 16 Apr 2023)
EllapsedTime: 78.8 seconds
RetCode: 0
Status: OK