Package: HIBAG Version: 1.34.1 Command: /Library/Frameworks/R.framework/Resources/bin/R CMD INSTALL HIBAG StartedAt: 2023-04-16 14:06:57 -0400 (Sun, 16 Apr 2023) EndedAt: 2023-04-16 14:07:28 -0400 (Sun, 16 Apr 2023) EllapsedTime: 31.6 seconds RetCode: 0 Status: OK