| Back to Mac ARM64 build report for BioC 3.16 |
|
This page was generated on 2023-04-19 11:01:49 -0400 (Wed, 19 Apr 2023).
| Hostname | OS | Arch (*) | R version | Installed pkgs |
|---|---|---|---|---|
| kjohnson | macOS 13.0 Ventura | arm64 | 4.2.2 (2022-10-31) -- "Innocent and Trusting" | 4256 |
| Click on any hostname to see more info about the system (e.g. compilers) (*) as reported by 'uname -p', except on Windows and Mac OS X | ||||
|
To the developers/maintainers of the HDF5Array package: Make sure to use the following settings in order to reproduce any error or warning you see on this page. |
| Package 892/2183 | Hostname | OS / Arch | INSTALL | BUILD | BUILD BIN | ||||||||
| HDF5Array 1.26.0 (landing page) Hervé Pagès
| kjohnson | macOS 13.0 Ventura / arm64 | OK | OK | OK | ||||||||
| QUICK STATS | OS / Arch | INSTALL | BUILD | BUILD BIN | |||||||||||||
| kjohnson | macOS 13.0 Ventura / arm64 |
|
|
| |||||||||||||
| Package 1/25 | Hostname | OS / Arch | INSTALL | BUILD | BUILD BIN | ||||||||||||
| biscuiteer 1.12.0 (landing page) Jacob Morrison
| kjohnson | macOS 13.0 Ventura / arm64 | OK | OK | OK | ||||||||||||
| Package 2/25 | Hostname | OS / Arch | INSTALL | BUILD | BUILD BIN | ||||||||||||
| bsseq 1.34.0 (landing page) Kasper Daniel Hansen
| kjohnson | macOS 13.0 Ventura / arm64 | OK | OK | OK | ||||||||||||
| Package 3/25 | Hostname | OS / Arch | INSTALL | BUILD | BUILD BIN | ||||||||||||
| Cepo 1.4.0 (landing page) Hani Jieun Kim
| kjohnson | macOS 13.0 Ventura / arm64 | OK | OK | OK | ||||||||||||
| Package 4/25 | Hostname | OS / Arch | INSTALL | BUILD | BUILD BIN | ||||||||||||
| clusterExperiment 2.18.2 (landing page) Elizabeth Purdom
| kjohnson | macOS 13.0 Ventura / arm64 | OK | OK | OK | ||||||||||||
| Package 5/25 | Hostname | OS / Arch | INSTALL | BUILD | BUILD BIN | ||||||||||||
| compartmap 1.16.0 (landing page) Benjamin Johnson
| kjohnson | macOS 13.0 Ventura / arm64 | OK | OK | OK | ||||||||||||
| Package 6/25 | Hostname | OS / Arch | INSTALL | BUILD | BUILD BIN | ||||||||||||
| cytomapper 1.10.1 (landing page) Nils Eling
| kjohnson | macOS 13.0 Ventura / arm64 | OK | OK | OK | ||||||||||||
| Package 7/25 | Hostname | OS / Arch | INSTALL | BUILD | BUILD BIN | ||||||||||||
| DelayedTensor 1.4.0 (landing page) Koki Tsuyuzaki
| kjohnson | macOS 13.0 Ventura / arm64 | OK | OK | OK | ||||||||||||
| Package 8/25 | Hostname | OS / Arch | INSTALL | BUILD | BUILD BIN | ||||||||||||
| DropletUtils 1.18.1 (landing page) Jonathan Griffiths
| kjohnson | macOS 13.0 Ventura / arm64 | OK | OK | OK | ||||||||||||
| Package 9/25 | Hostname | OS / Arch | INSTALL | BUILD | BUILD BIN | ||||||||||||
| FRASER 1.10.2 (landing page) Christian Mertes
| kjohnson | macOS 13.0 Ventura / arm64 | OK | OK | OK | ||||||||||||
| Package 10/25 | Hostname | OS / Arch | INSTALL | BUILD | BUILD BIN | ||||||||||||
| GenomicScores 2.10.0 (landing page) Robert Castelo
| kjohnson | macOS 13.0 Ventura / arm64 | OK | OK | OK | ||||||||||||
| Package 11/25 | Hostname | OS / Arch | INSTALL | BUILD | BUILD BIN | ||||||||||||
| glmGamPoi 1.10.2 (landing page) Constantin Ahlmann-Eltze
| kjohnson | macOS 13.0 Ventura / arm64 | OK | OK | OK | ||||||||||||
| Package 12/25 | Hostname | OS / Arch | INSTALL | BUILD | BUILD BIN | ||||||||||||
| GSVA 1.46.0 (landing page) Robert Castelo
| kjohnson | macOS 13.0 Ventura / arm64 | OK | OK | OK | ||||||||||||
| Package 13/25 | Hostname | OS / Arch | INSTALL | BUILD | BUILD BIN | ||||||||||||
| LoomExperiment 1.16.0 (landing page) Bioconductor Package Maintainer
| kjohnson | macOS 13.0 Ventura / arm64 | OK | OK | OK | ||||||||||||
| Package 14/25 | Hostname | OS / Arch | INSTALL | BUILD | BUILD BIN | ||||||||||||
| MAGAR 1.6.0 (landing page) Michael Scherer
| kjohnson | macOS 13.0 Ventura / arm64 | OK | OK | OK | ||||||||||||
| Package 15/25 | Hostname | OS / Arch | INSTALL | BUILD | BUILD BIN | ||||||||||||
| methrix 1.12.0 (landing page) Anand Mayakonda
| kjohnson | macOS 13.0 Ventura / arm64 | OK | OK | OK | ||||||||||||
| Package 16/25 | Hostname | OS / Arch | INSTALL | BUILD | BUILD BIN | ||||||||||||
| minfi 1.44.0 (landing page) Kasper Daniel Hansen
| kjohnson | macOS 13.0 Ventura / arm64 | OK | OK | OK | ||||||||||||
| Package 17/25 | Hostname | OS / Arch | INSTALL | BUILD | BUILD BIN | ||||||||||||
| MOFA2 1.8.0 (landing page) Ricard Argelaguet
| kjohnson | macOS 13.0 Ventura / arm64 | OK | OK | OK | ||||||||||||
| Package 18/25 | Hostname | OS / Arch | INSTALL | BUILD | BUILD BIN | ||||||||||||
| netSmooth 1.18.0 (landing page) Jonathan Ronen
| kjohnson | macOS 13.0 Ventura / arm64 | OK | OK | OK | ||||||||||||
| Package 19/25 | Hostname | OS / Arch | INSTALL | BUILD | BUILD BIN | ||||||||||||
| NxtIRFcore 1.4.0 (landing page) Alex Chit Hei Wong
| kjohnson | macOS 13.0 Ventura / arm64 | OK | OK | OK | ||||||||||||
| Package 20/25 | Hostname | OS / Arch | INSTALL | BUILD | BUILD BIN | ||||||||||||
| recountmethylation 1.8.6 (landing page) Sean K Maden
| kjohnson | macOS 13.0 Ventura / arm64 | OK | OK | OK | ||||||||||||
| Package 21/25 | Hostname | OS / Arch | INSTALL | BUILD | BUILD BIN | ||||||||||||
| scmeth 1.18.0 (landing page) Divy Kangeyan
| kjohnson | macOS 13.0 Ventura / arm64 | OK | OK | OK | ||||||||||||
| Package 22/25 | Hostname | OS / Arch | INSTALL | BUILD | BUILD BIN | ||||||||||||
| scry 1.10.0 (landing page) Kelly Street
| kjohnson | macOS 13.0 Ventura / arm64 | OK | OK | OK | ||||||||||||
| Package 23/25 | Hostname | OS / Arch | INSTALL | BUILD | BUILD BIN | ||||||||||||
| signatureSearch 1.12.0 (landing page) Brendan Gongol
| kjohnson | macOS 13.0 Ventura / arm64 | OK | OK | OK | ||||||||||||
| Package 24/25 | Hostname | OS / Arch | INSTALL | BUILD | BUILD BIN | ||||||||||||
| SpliceWiz 1.0.4 (landing page) Alex Chit Hei Wong
| kjohnson | macOS 13.0 Ventura / arm64 | OK | OK | OK | ||||||||||||
| Package 25/25 | Hostname | OS / Arch | INSTALL | BUILD | BUILD BIN | ||||||||||||
| transformGamPoi 1.4.0 (landing page) Constantin Ahlmann-Eltze
| kjohnson | macOS 13.0 Ventura / arm64 | OK | OK | OK | ||||||||||||