Package: GraphAlignment Version: 1.62.0 Command: rm -rf GraphAlignment.buildbin-libdir && mkdir GraphAlignment.buildbin-libdir && /Users/biocbuild/BBS/utils/build-universal.sh GraphAlignment_1.62.0.tar.gz /Library/Frameworks/R.framework/Resources/bin/R GraphAlignment.buildbin-libdir StartedAt: 2023-04-18 16:16:40 -0400 (Tue, 18 Apr 2023) EndedAt: 2023-04-18 16:16:54 -0400 (Tue, 18 Apr 2023) EllapsedTime: 14.2 seconds RetCode: 0 Status: OK PackageFile: GraphAlignment_1.62.0.tgz PackageFileSize: 570.7 KiB