Package: GeneTonic Version: 2.2.0 Command: /Library/Frameworks/R.framework/Resources/bin/R CMD INSTALL GeneTonic StartedAt: 2023-04-16 18:07:28 -0400 (Sun, 16 Apr 2023) EndedAt: 2023-04-16 18:08:31 -0400 (Sun, 16 Apr 2023) EllapsedTime: 63.0 seconds RetCode: 0 Status: OK