Package: GeneOverlap Version: 1.34.0 Command: /Library/Frameworks/R.framework/Resources/bin/R CMD build --keep-empty-dirs --no-resave-data GeneOverlap StartedAt: 2023-04-17 07:27:38 -0400 (Mon, 17 Apr 2023) EndedAt: 2023-04-17 07:27:51 -0400 (Mon, 17 Apr 2023) EllapsedTime: 12.8 seconds RetCode: 0 Status: OK PackageFile: GeneOverlap_1.34.0.tar.gz PackageFileSize: 360.5 KiB