Package: GWAS.BAYES Version: 1.8.0 Command: /Library/Frameworks/R.framework/Resources/bin/R CMD build --keep-empty-dirs --no-resave-data GWAS.BAYES StartedAt: 2023-04-17 09:45:07 -0400 (Mon, 17 Apr 2023) EndedAt: 2023-04-17 09:50:01 -0400 (Mon, 17 Apr 2023) EllapsedTime: 294.0 seconds RetCode: 0 Status: OK PackageFile: GWAS.BAYES_1.8.0.tar.gz PackageFileSize: 1.482 MiB