Package: GSAR Version: 1.32.1 Command: /Library/Frameworks/R.framework/Resources/bin/R CMD build --keep-empty-dirs --no-resave-data GSAR StartedAt: 2023-04-17 09:26:37 -0400 (Mon, 17 Apr 2023) EndedAt: 2023-04-17 09:30:32 -0400 (Mon, 17 Apr 2023) EllapsedTime: 235.1 seconds RetCode: 0 Status: OK PackageFile: GSAR_1.32.1.tar.gz PackageFileSize: 2.208 MiB