Package: GEOmetadb Version: 1.60.0 Command: /Library/Frameworks/R.framework/Resources/bin/R CMD build --keep-empty-dirs --no-resave-data GEOmetadb StartedAt: 2023-04-17 07:57:07 -0400 (Mon, 17 Apr 2023) EndedAt: 2023-04-17 07:57:35 -0400 (Mon, 17 Apr 2023) EllapsedTime: 27.7 seconds RetCode: 0 Status: OK PackageFile: GEOmetadb_1.60.0.tar.gz PackageFileSize: 510.4 KiB