Package: GEM Version: 1.24.0 Command: /Library/Frameworks/R.framework/Resources/bin/R CMD build --keep-empty-dirs --no-resave-data GEM StartedAt: 2023-04-17 07:15:23 -0400 (Mon, 17 Apr 2023) EndedAt: 2023-04-17 07:15:44 -0400 (Mon, 17 Apr 2023) EllapsedTime: 20.3 seconds RetCode: 0 Status: OK PackageFile: GEM_1.24.0.tar.gz PackageFileSize: 598.3 KiB