Package: GEM Version: 1.24.0 Command: rm -rf GEM.buildbin-libdir && mkdir GEM.buildbin-libdir && /Users/biocbuild/BBS/utils/build-universal.sh GEM_1.24.0.tar.gz /Library/Frameworks/R.framework/Resources/bin/R GEM.buildbin-libdir StartedAt: 2023-04-18 15:57:01 -0400 (Tue, 18 Apr 2023) EndedAt: 2023-04-18 15:58:24 -0400 (Tue, 18 Apr 2023) EllapsedTime: 82.3 seconds RetCode: 0 Status: OK PackageFile: GEM_1.24.0.tgz PackageFileSize: 782.6 KiB