Package: GA4GHclient Version: 1.22.0 Command: /Library/Frameworks/R.framework/Resources/bin/R CMD INSTALL GA4GHclient StartedAt: 2023-04-16 16:56:50 -0400 (Sun, 16 Apr 2023) EndedAt: 2023-04-16 16:58:08 -0400 (Sun, 16 Apr 2023) EllapsedTime: 77.5 seconds RetCode: 0 Status: OK