Package: FuseSOM Version: 1.0.1 Command: /Library/Frameworks/R.framework/Resources/bin/R CMD INSTALL FuseSOM StartedAt: 2023-04-16 18:50:51 -0400 (Sun, 16 Apr 2023) EndedAt: 2023-04-16 18:51:22 -0400 (Sun, 16 Apr 2023) EllapsedTime: 31.1 seconds RetCode: 0 Status: OK