Package: ExperimentSubset
Version: 1.8.0
Command: /Library/Frameworks/R.framework/Resources/bin/R CMD INSTALL ExperimentSubset
StartedAt: 2023-04-16 15:41:40 -0400 (Sun, 16 Apr 2023)
EndedAt: 2023-04-16 15:42:43 -0400 (Sun, 16 Apr 2023)
EllapsedTime: 63.7 seconds
RetCode: 0
Status: OK