Package: ExperimentSubset
Version: 1.8.0
Command: rm -rf ExperimentSubset.buildbin-libdir && mkdir ExperimentSubset.buildbin-libdir && /Users/biocbuild/BBS/utils/build-universal.sh ExperimentSubset_1.8.0.tar.gz /Library/Frameworks/R.framework/Resources/bin/R ExperimentSubset.buildbin-libdir
StartedAt: 2023-04-18 15:41:13 -0400 (Tue, 18 Apr 2023)
EndedAt: 2023-04-18 15:42:51 -0400 (Tue, 18 Apr 2023)
EllapsedTime: 97.8 seconds
RetCode: 0
Status: OK
PackageFile: ExperimentSubset_1.8.0.tgz
PackageFileSize: 707.3 <A href="http://en.wikipedia.org/wiki/KiB" target="_blank">KiB</A>