Package: EBarrays Version: 2.62.0 Command: /Library/Frameworks/R.framework/Resources/bin/R CMD build --keep-empty-dirs --no-resave-data EBarrays StartedAt: 2023-04-17 04:51:43 -0400 (Mon, 17 Apr 2023) EndedAt: 2023-04-17 04:52:08 -0400 (Mon, 17 Apr 2023) EllapsedTime: 25.1 seconds RetCode: 0 Status: OK PackageFile: EBarrays_2.62.0.tar.gz PackageFileSize: 1.039 MiB