Package: DropletUtils Version: 1.18.1 Command: /Library/Frameworks/R.framework/Resources/bin/R CMD build --keep-empty-dirs --no-resave-data DropletUtils StartedAt: 2023-04-17 04:38:13 -0400 (Mon, 17 Apr 2023) EndedAt: 2023-04-17 04:39:47 -0400 (Mon, 17 Apr 2023) EllapsedTime: 94.7 seconds RetCode: 0 Status: OK PackageFile: DropletUtils_1.18.1.tar.gz PackageFileSize: 555.1 KiB