Package: DelayedDataFrame Version: 1.14.0 Command: rm -rf DelayedDataFrame.buildbin-libdir && mkdir DelayedDataFrame.buildbin-libdir && /Users/biocbuild/BBS/utils/build-universal.sh DelayedDataFrame_1.14.0.tar.gz /Library/Frameworks/R.framework/Resources/bin/R DelayedDataFrame.buildbin-libdir StartedAt: 2023-04-18 15:09:01 -0400 (Tue, 18 Apr 2023) EndedAt: 2023-04-18 15:09:42 -0400 (Tue, 18 Apr 2023) EllapsedTime: 40.7 seconds RetCode: 0 Status: OK PackageFile: DelayedDataFrame_1.14.0.tgz PackageFileSize: 901.6 KiB