Package: DNAcopy Version: 1.72.3 Command: /Library/Frameworks/R.framework/Resources/bin/R CMD build --keep-empty-dirs --no-resave-data DNAcopy StartedAt: 2023-04-17 04:27:16 -0400 (Mon, 17 Apr 2023) EndedAt: 2023-04-17 04:27:36 -0400 (Mon, 17 Apr 2023) EllapsedTime: 19.8 seconds RetCode: 0 Status: OK PackageFile: DNAcopy_1.72.3.tar.gz PackageFileSize: 407.6 KiB