Package: Chicago Version: 1.26.0 Command: rm -rf Chicago.buildbin-libdir && mkdir Chicago.buildbin-libdir && /Users/biocbuild/BBS/utils/build-universal.sh Chicago_1.26.0.tar.gz /Library/Frameworks/R.framework/Resources/bin/R Chicago.buildbin-libdir StartedAt: 2023-04-18 14:23:00 -0400 (Tue, 18 Apr 2023) EndedAt: 2023-04-18 14:23:28 -0400 (Tue, 18 Apr 2023) EllapsedTime: 28.0 seconds RetCode: 0 Status: OK PackageFile: Chicago_1.26.0.tgz PackageFileSize: 1.368 MiB