Package: ChIPQC Version: 1.34.1 Command: /Library/Frameworks/R.framework/Resources/bin/R CMD build --keep-empty-dirs --no-resave-data ChIPQC StartedAt: 2023-04-17 00:05:13 -0400 (Mon, 17 Apr 2023) EndedAt: 2023-04-17 00:06:48 -0400 (Mon, 17 Apr 2023) EllapsedTime: 95.1 seconds RetCode: 0 Status: OK PackageFile: ChIPQC_1.34.1.tar.gz PackageFileSize: 1.525 MiB