Package: CellNOptR Version: 1.44.0 Command: /Library/Frameworks/R.framework/Resources/bin/R CMD build --keep-empty-dirs --no-resave-data CellNOptR StartedAt: 2023-04-16 23:29:41 -0400 (Sun, 16 Apr 2023) EndedAt: 2023-04-16 23:30:13 -0400 (Sun, 16 Apr 2023) EllapsedTime: 32.3 seconds RetCode: 0 Status: OK PackageFile: CellNOptR_1.44.0.tar.gz PackageFileSize: 3.472 MiB