Package: BiocNeighbors Version: 1.16.0 Command: /Library/Frameworks/R.framework/Resources/bin/R CMD build --keep-empty-dirs --no-resave-data BiocNeighbors StartedAt: 2023-04-16 21:46:18 -0400 (Sun, 16 Apr 2023) EndedAt: 2023-04-16 21:48:45 -0400 (Sun, 16 Apr 2023) EllapsedTime: 146.5 seconds RetCode: 0 Status: OK PackageFile: BiocNeighbors_1.16.0.tar.gz PackageFileSize: 971.9 KiB