| Back to Mac ARM64 build report for BioC 3.16 |
|
This page was generated on 2023-04-19 11:01:47 -0400 (Wed, 19 Apr 2023).
| Hostname | OS | Arch (*) | R version | Installed pkgs |
|---|---|---|---|---|
| kjohnson | macOS 13.0 Ventura | arm64 | 4.2.2 (2022-10-31) -- "Innocent and Trusting" | 4256 |
| Click on any hostname to see more info about the system (e.g. compilers) (*) as reported by 'uname -p', except on Windows and Mac OS X | ||||
|
To the developers/maintainers of the BiocIO package: Make sure to use the following settings in order to reproduce any error or warning you see on this page. |
| Package 165/2183 | Hostname | OS / Arch | INSTALL | BUILD | BUILD BIN | ||||||||
| BiocIO 1.8.0 (landing page) Bioconductor Package Maintainer
| kjohnson | macOS 13.0 Ventura / arm64 | OK | OK | OK | ||||||||
| QUICK STATS | OS / Arch | INSTALL | BUILD | BUILD BIN | |||||||||||||
| kjohnson | macOS 13.0 Ventura / arm64 |
|
|
| |||||||||||||
| Package 1/7 | Hostname | OS / Arch | INSTALL | BUILD | BUILD BIN | ||||||||||||
| BiocSet 1.12.1 (landing page) Kayla Morrell
| kjohnson | macOS 13.0 Ventura / arm64 | OK | OK | OK | ||||||||||||
| Package 2/7 | Hostname | OS / Arch | INSTALL | BUILD | BUILD BIN | ||||||||||||
| extraChIPs 1.2.4 (landing page) Stephen Pederson
| kjohnson | macOS 13.0 Ventura / arm64 | OK | OK | OK | ||||||||||||
| Package 3/7 | Hostname | OS / Arch | INSTALL | BUILD | BUILD BIN | ||||||||||||
| GenomicFeatures 1.50.4 (landing page) H. Pagès
| kjohnson | macOS 13.0 Ventura / arm64 | OK | OK | OK | ||||||||||||
| Package 4/7 | Hostname | OS / Arch | INSTALL | BUILD | BUILD BIN | ||||||||||||
| HelloRanges 1.24.0 (landing page) Michael Lawrence
| kjohnson | macOS 13.0 Ventura / arm64 | OK | OK | OK | ||||||||||||
| Package 5/7 | Hostname | OS / Arch | INSTALL | BUILD | BUILD BIN | ||||||||||||
| LoomExperiment 1.16.0 (landing page) Bioconductor Package Maintainer
| kjohnson | macOS 13.0 Ventura / arm64 | OK | OK | OK | ||||||||||||
| Package 6/7 | Hostname | OS / Arch | INSTALL | BUILD | BUILD BIN | ||||||||||||
| rtracklayer 1.58.0 (landing page) Michael Lawrence
| kjohnson | macOS 13.0 Ventura / arm64 | OK | OK | OK | ||||||||||||
| Package 7/7 | Hostname | OS / Arch | INSTALL | BUILD | BUILD BIN | ||||||||||||
| TENxIO 1.0.1 (landing page) Marcel Ramos
| kjohnson | macOS 13.0 Ventura / arm64 | OK | OK | OK | ||||||||||||