| Back to Mac ARM64 build report for BioC 3.16 |
|
This page was generated on 2023-04-19 11:01:47 -0400 (Wed, 19 Apr 2023).
| Hostname | OS | Arch (*) | R version | Installed pkgs |
|---|---|---|---|---|
| kjohnson | macOS 13.0 Ventura | arm64 | 4.2.2 (2022-10-31) -- "Innocent and Trusting" | 4256 |
| Click on any hostname to see more info about the system (e.g. compilers) (*) as reported by 'uname -p', except on Windows and Mac OS X | ||||
|
To the developers/maintainers of the BiocFileCache package: Make sure to use the following settings in order to reproduce any error or warning you see on this page. |
| Package 162/2183 | Hostname | OS / Arch | INSTALL | BUILD | BUILD BIN | ||||||||
| BiocFileCache 2.6.1 (landing page) Lori Shepherd
| kjohnson | macOS 13.0 Ventura / arm64 | OK | OK | OK | ||||||||
| QUICK STATS | OS / Arch | INSTALL | BUILD | BUILD BIN | |||||||||||||
| kjohnson | macOS 13.0 Ventura / arm64 |
|
|
| |||||||||||||
| Package 1/59 | Hostname | OS / Arch | INSTALL | BUILD | BUILD BIN | ||||||||||||
| AMARETTO 1.14.0 (landing page) Olivier Gevaert
| kjohnson | macOS 13.0 Ventura / arm64 | OK | OK | OK | ||||||||||||
| Package 2/59 | Hostname | OS / Arch | INSTALL | BUILD | BUILD BIN | ||||||||||||
| AnnotationHub 3.6.0 (landing page) Bioconductor Package Maintainer
| kjohnson | macOS 13.0 Ventura / arm64 | OK | OK | OK | ||||||||||||
| Package 3/59 | Hostname | OS / Arch | INSTALL | BUILD | BUILD BIN | ||||||||||||
| atSNP 1.14.0 (landing page) Sunyoung Shin
| kjohnson | macOS 13.0 Ventura / arm64 | OK | OK | OK | ||||||||||||
| Package 4/59 | Hostname | OS / Arch | INSTALL | BUILD | BUILD BIN | ||||||||||||
| autonomics 1.6.0 (landing page) Aditya Bhagwat
| kjohnson | macOS 13.0 Ventura / arm64 | OK | OK | OK | ||||||||||||
| Package 5/59 | Hostname | OS / Arch | INSTALL | BUILD | BUILD BIN | ||||||||||||
| BayesSpace 1.8.2 (landing page) Matt Stone
| kjohnson | macOS 13.0 Ventura / arm64 | OK | OK | OK | ||||||||||||
| Package 6/59 | Hostname | OS / Arch | INSTALL | BUILD | BUILD BIN | ||||||||||||
| BiocPkgTools 1.16.1 (landing page) Sean Davis
| kjohnson | macOS 13.0 Ventura / arm64 | OK | OK | OK | ||||||||||||
| Package 7/59 | Hostname | OS / Arch | INSTALL | BUILD | BUILD BIN | ||||||||||||
| biodb 1.6.1 (landing page) Pierrick Roger
| kjohnson | macOS 13.0 Ventura / arm64 | OK | OK | OK | ||||||||||||
| Package 8/59 | Hostname | OS / Arch | INSTALL | BUILD | BUILD BIN | ||||||||||||
| biomaRt 2.54.1 (landing page) Mike Smith
| kjohnson | macOS 13.0 Ventura / arm64 | OK | OK | OK | ||||||||||||
| Package 9/59 | Hostname | OS / Arch | INSTALL | BUILD | BUILD BIN | ||||||||||||
USD Biomedical Engineering
| kjohnson | macOS 13.0 Ventura / arm64 | OK | OK | OK | ||||||||||||
| Package 10/59 | Hostname | OS / Arch | INSTALL | BUILD | BUILD BIN | ||||||||||||
| brendaDb 1.12.0 (landing page) Yi Zhou
| kjohnson | macOS 13.0 Ventura / arm64 | OK | OK | OK | ||||||||||||
| Package 11/59 | Hostname | OS / Arch | INSTALL | BUILD | BUILD BIN | ||||||||||||
| bugsigdbr 1.4.3 (landing page) Ludwig Geistlinger
| kjohnson | macOS 13.0 Ventura / arm64 | OK | OK | OK | ||||||||||||
| Package 12/59 | Hostname | OS / Arch | INSTALL | BUILD | BUILD BIN | ||||||||||||
| cbaf 1.20.1 (landing page) Arman Shahrisa
| kjohnson | macOS 13.0 Ventura / arm64 | OK | OK | OK | ||||||||||||
| Package 13/59 | Hostname | OS / Arch | INSTALL | BUILD | BUILD BIN | ||||||||||||
| cBioPortalData 2.10.3 (landing page) Marcel Ramos
| kjohnson | macOS 13.0 Ventura / arm64 | OK | OK | OK | ||||||||||||
| Package 14/59 | Hostname | OS / Arch | INSTALL | BUILD | BUILD BIN | ||||||||||||
| CellBench 1.14.0 (landing page) Shian Su
| kjohnson | macOS 13.0 Ventura / arm64 | OK | OK | OK | ||||||||||||
| Package 15/59 | Hostname | OS / Arch | INSTALL | BUILD | BUILD BIN | ||||||||||||
Ilyess Rachedi
| kjohnson | macOS 13.0 Ventura / arm64 | OK | ERROR | skipped | ||||||||||||
| Package 16/59 | Hostname | OS / Arch | INSTALL | BUILD | BUILD BIN | ||||||||||||
| CTDquerier 2.6.0 (landing page) Xavier EscribĂ -Montagut
| kjohnson | macOS 13.0 Ventura / arm64 | OK | OK | OK | ||||||||||||
| Package 17/59 | Hostname | OS / Arch | INSTALL | BUILD | BUILD BIN | ||||||||||||
| customCMPdb 1.8.0 (landing page) Yuzhu Duan
| kjohnson | macOS 13.0 Ventura / arm64 | OK | OK | OK | ||||||||||||
| Package 18/59 | Hostname | OS / Arch | INSTALL | BUILD | BUILD BIN | ||||||||||||
| dasper 1.8.0 (landing page) David Zhang
| kjohnson | macOS 13.0 Ventura / arm64 | OK | ERROR | skipped | ||||||||||||
| Package 19/59 | Hostname | OS / Arch | INSTALL | BUILD | BUILD BIN | ||||||||||||
| drugTargetInteractions 1.6.0 (landing page) Thomas Girke
| kjohnson | macOS 13.0 Ventura / arm64 | OK | OK | OK | ||||||||||||
| Package 20/59 | Hostname | OS / Arch | INSTALL | BUILD | BUILD BIN | ||||||||||||
| easyRNASeq 2.34.0 (landing page) Nicolas Delhomme
| kjohnson | macOS 13.0 Ventura / arm64 | OK | OK | OK | ||||||||||||
| Package 21/59 | Hostname | OS / Arch | INSTALL | BUILD | BUILD BIN | ||||||||||||
| enhancerHomologSearch 1.4.2 (landing page) Jianhong Ou
| kjohnson | macOS 13.0 Ventura / arm64 | OK | OK | OK | ||||||||||||
| Package 22/59 | Hostname | OS / Arch | INSTALL | BUILD | BUILD BIN | ||||||||||||
| EnMCB 1.10.0 (landing page) Xin Yu
| kjohnson | macOS 13.0 Ventura / arm64 | OK | OK | OK | ||||||||||||
| Package 23/59 | Hostname | OS / Arch | INSTALL | BUILD | BUILD BIN | ||||||||||||
| EnrichmentBrowser 2.28.2 (landing page) Ludwig Geistlinger
| kjohnson | macOS 13.0 Ventura / arm64 | OK | OK | OK | ||||||||||||
| Package 24/59 | Hostname | OS / Arch | INSTALL | BUILD | BUILD BIN | ||||||||||||
| EpiTxDb 1.10.0 (landing page) Felix G.M. Ernst
| kjohnson | macOS 13.0 Ventura / arm64 | OK | OK | OK | ||||||||||||
| Package 25/59 | Hostname | OS / Arch | INSTALL | BUILD | BUILD BIN | ||||||||||||
| ExperimentHub 2.6.0 (landing page) Bioconductor Package Maintainer
| kjohnson | macOS 13.0 Ventura / arm64 | OK | OK | OK | ||||||||||||
| Package 26/59 | Hostname | OS / Arch | INSTALL | BUILD | BUILD BIN | ||||||||||||
| fgga 1.6.0 (landing page) Flavio Spetale
| kjohnson | macOS 13.0 Ventura / arm64 | OK | OK | OK | ||||||||||||
| Package 27/59 | Hostname | OS / Arch | INSTALL | BUILD | BUILD BIN | ||||||||||||
| GAPGOM 1.14.0 (landing page) Rezvan Ehsani
| kjohnson | macOS 13.0 Ventura / arm64 | OK | ERROR | skipped | ||||||||||||
| Package 28/59 | Hostname | OS / Arch | INSTALL | BUILD | BUILD BIN | ||||||||||||
| GenomicScores 2.10.0 (landing page) Robert Castelo
| kjohnson | macOS 13.0 Ventura / arm64 | OK | OK | OK | ||||||||||||
| Package 29/59 | Hostname | OS / Arch | INSTALL | BUILD | BUILD BIN | ||||||||||||
| GenomicSuperSignature 1.6.0 (landing page) Sehyun Oh
| kjohnson | macOS 13.0 Ventura / arm64 | OK | OK | OK | ||||||||||||
| Package 30/59 | Hostname | OS / Arch | INSTALL | BUILD | BUILD BIN | ||||||||||||
| GSEABenchmarkeR 1.18.0 (landing page) Ludwig Geistlinger
| kjohnson | macOS 13.0 Ventura / arm64 | OK | OK | OK | ||||||||||||
| Package 31/59 | Hostname | OS / Arch | INSTALL | BUILD | BUILD BIN | ||||||||||||
| gwascat 2.30.0 (landing page) VJ Carey
| kjohnson | macOS 13.0 Ventura / arm64 | OK | OK | OK | ||||||||||||
| Package 32/59 | Hostname | OS / Arch | INSTALL | BUILD | BUILD BIN | ||||||||||||
| hca 1.6.0 (landing page) Martin Morgan
| kjohnson | macOS 13.0 Ventura / arm64 | OK | OK | OK | ||||||||||||
| Package 33/59 | Hostname | OS / Arch | INSTALL | BUILD | BUILD BIN | ||||||||||||
| MBQN 2.10.0 (landing page) Eva Brombacher
| kjohnson | macOS 13.0 Ventura / arm64 | OK | OK | OK | ||||||||||||
| Package 34/59 | Hostname | OS / Arch | INSTALL | BUILD | BUILD BIN | ||||||||||||
| netDx 1.10.0 (landing page) Shraddha Pai
| kjohnson | macOS 13.0 Ventura / arm64 | OK | ERROR | skipped | ||||||||||||
| Package 35/59 | Hostname | OS / Arch | INSTALL | BUILD | BUILD BIN | ||||||||||||
| NxtIRFcore 1.4.0 (landing page) Alex Chit Hei Wong
| kjohnson | macOS 13.0 Ventura / arm64 | OK | OK | OK | ||||||||||||
| Package 36/59 | Hostname | OS / Arch | INSTALL | BUILD | BUILD BIN | ||||||||||||
| ODER 1.4.0 (landing page) David Zhang
| kjohnson | macOS 13.0 Ventura / arm64 | OK | OK | OK | ||||||||||||
| Package 37/59 | Hostname | OS / Arch | INSTALL | BUILD | BUILD BIN | ||||||||||||
| ontoProc 1.20.0 (landing page) Vincent Carey
| kjohnson | macOS 13.0 Ventura / arm64 | OK | OK | OK | ||||||||||||
| Package 38/59 | Hostname | OS / Arch | INSTALL | BUILD | BUILD BIN | ||||||||||||
| Organism.dplyr 1.26.0 (landing page) Martin Morgan
| kjohnson | macOS 13.0 Ventura / arm64 | OK | OK | OK | ||||||||||||
| Package 39/59 | Hostname | OS / Arch | INSTALL | BUILD | BUILD BIN | ||||||||||||
| PhIPData 1.6.0 (landing page) Athena Chen
| kjohnson | macOS 13.0 Ventura / arm64 | OK | OK | OK | ||||||||||||
| Package 40/59 | Hostname | OS / Arch | INSTALL | BUILD | BUILD BIN | ||||||||||||
| psichomics 1.24.0 (landing page) Nuno Saraiva-Agostinho
| kjohnson | macOS 13.0 Ventura / arm64 | OK | OK | OK | ||||||||||||
| Package 41/59 | Hostname | OS / Arch | INSTALL | BUILD | BUILD BIN | ||||||||||||
| RcwlPipelines 1.14.0 (landing page) Qiang Hu
| kjohnson | macOS 13.0 Ventura / arm64 | OK | OK | OK | ||||||||||||
| Package 42/59 | Hostname | OS / Arch | INSTALL | BUILD | BUILD BIN | ||||||||||||
| recount3 1.8.0 (landing page) Leonardo Collado-Torres
| kjohnson | macOS 13.0 Ventura / arm64 | OK | OK | OK | ||||||||||||
| Package 43/59 | Hostname | OS / Arch | INSTALL | BUILD | BUILD BIN | ||||||||||||
| recountmethylation 1.8.6 (landing page) Sean K Maden
| kjohnson | macOS 13.0 Ventura / arm64 | OK | OK | OK | ||||||||||||
| Package 44/59 | Hostname | OS / Arch | INSTALL | BUILD | BUILD BIN | ||||||||||||
| regutools 1.10.0 (landing page) Joselyn Chavez
| kjohnson | macOS 13.0 Ventura / arm64 | OK | OK | OK | ||||||||||||
| Package 45/59 | Hostname | OS / Arch | INSTALL | BUILD | BUILD BIN | ||||||||||||
| RiboDiPA 1.6.0 (landing page) Ji-Ping Wang
| kjohnson | macOS 13.0 Ventura / arm64 | OK | OK | OK | ||||||||||||
| Package 46/59 | Hostname | OS / Arch | INSTALL | BUILD | BUILD BIN | ||||||||||||
| rpx 2.6.3 (landing page) Laurent Gatto
| kjohnson | macOS 13.0 Ventura / arm64 | OK | OK | OK | ||||||||||||
| Package 47/59 | Hostname | OS / Arch | INSTALL | BUILD | BUILD BIN | ||||||||||||
| sesame 1.16.1 (landing page) Wanding Zhou
| kjohnson | macOS 13.0 Ventura / arm64 | OK | OK | OK | ||||||||||||
| Package 48/59 | Hostname | OS / Arch | INSTALL | BUILD | BUILD BIN | ||||||||||||
| signeR 2.0.2 (landing page) Renan Valieris
| kjohnson | macOS 13.0 Ventura / arm64 | OK | OK | OK | ||||||||||||
| Package 49/59 | Hostname | OS / Arch | INSTALL | BUILD | BUILD BIN | ||||||||||||
| SpatialExperiment 1.8.1 (landing page) Dario Righelli
| kjohnson | macOS 13.0 Ventura / arm64 | OK | OK | OK | ||||||||||||
| Package 50/59 | Hostname | OS / Arch | INSTALL | BUILD | BUILD BIN | ||||||||||||
| spatialHeatmap 2.4.0 (landing page) Jianhai Zhang
| kjohnson | macOS 13.0 Ventura / arm64 | OK | OK | OK | ||||||||||||
| Package 51/59 | Hostname | OS / Arch | INSTALL | BUILD | BUILD BIN | ||||||||||||
| SpliceWiz 1.0.4 (landing page) Alex Chit Hei Wong
| kjohnson | macOS 13.0 Ventura / arm64 | OK | OK | OK | ||||||||||||
| Package 52/59 | Hostname | OS / Arch | INSTALL | BUILD | BUILD BIN | ||||||||||||
| terraTCGAdata 1.2.0 (landing page) Marcel Ramos
| kjohnson | macOS 13.0 Ventura / arm64 | OK | OK | OK | ||||||||||||
| Package 53/59 | Hostname | OS / Arch | INSTALL | BUILD | BUILD BIN | ||||||||||||
| TFutils 1.18.0 (landing page) Vincent Carey
| kjohnson | macOS 13.0 Ventura / arm64 | OK | OK | OK | ||||||||||||
| Package 54/59 | Hostname | OS / Arch | INSTALL | BUILD | BUILD BIN | ||||||||||||
| tomoseqr 1.2.0 (landing page) Ryosuke Matsuzawa
| kjohnson | macOS 13.0 Ventura / arm64 | OK | OK | OK | ||||||||||||
| Package 55/59 | Hostname | OS / Arch | INSTALL | BUILD | BUILD BIN | ||||||||||||
| tximeta 1.16.1 (landing page) Michael Love
| kjohnson | macOS 13.0 Ventura / arm64 | OK | OK | OK | ||||||||||||
| Package 56/59 | Hostname | OS / Arch | INSTALL | BUILD | BUILD BIN | ||||||||||||
| UMI4Cats 1.8.1 (landing page) Mireia Ramos-Rodriguez
| kjohnson | macOS 13.0 Ventura / arm64 | OK | OK | OK | ||||||||||||
| Package 57/59 | Hostname | OS / Arch | INSTALL | BUILD | BUILD BIN | ||||||||||||
| uncoverappLib 1.8.1 (landing page) Emanuela Iovino
| kjohnson | macOS 13.0 Ventura / arm64 | OK | OK | OK | ||||||||||||
| Package 58/59 | Hostname | OS / Arch | INSTALL | BUILD | BUILD BIN | ||||||||||||
| UniProt.ws 2.38.1 (landing page) Marcel Ramos
| kjohnson | macOS 13.0 Ventura / arm64 | OK | OK | OK | ||||||||||||
| Package 59/59 | Hostname | OS / Arch | INSTALL | BUILD | BUILD BIN | ||||||||||||
| waddR 1.12.0 (landing page) Julian Flesch
| kjohnson | macOS 13.0 Ventura / arm64 | OK | OK | OK | ||||||||||||