Package: BioNAR Version: 1.0.0 Command: rm -rf BioNAR.buildbin-libdir && mkdir BioNAR.buildbin-libdir && /Users/biocbuild/BBS/utils/build-universal.sh BioNAR_1.0.0.tar.gz /Library/Frameworks/R.framework/Resources/bin/R BioNAR.buildbin-libdir StartedAt: 2023-04-18 13:59:51 -0400 (Tue, 18 Apr 2023) EndedAt: 2023-04-18 14:01:35 -0400 (Tue, 18 Apr 2023) EllapsedTime: 103.4 seconds RetCode: 0 Status: OK PackageFile: BioNAR_1.0.0.tgz PackageFileSize: 2.308 MiB