Package: BeadDataPackR Version: 1.50.0 Command: rm -rf BeadDataPackR.buildbin-libdir && mkdir BeadDataPackR.buildbin-libdir && /Users/biocbuild/BBS/utils/build-universal.sh BeadDataPackR_1.50.0.tar.gz /Library/Frameworks/R.framework/Resources/bin/R BeadDataPackR.buildbin-libdir StartedAt: 2023-04-18 13:51:15 -0400 (Tue, 18 Apr 2023) EndedAt: 2023-04-18 13:51:27 -0400 (Tue, 18 Apr 2023) EllapsedTime: 12.4 seconds RetCode: 0 Status: OK PackageFile: BeadDataPackR_1.50.0.tgz PackageFileSize: 288 KiB