Package: BayesKnockdown Version: 1.24.0 Command: /Library/Frameworks/R.framework/Resources/bin/R CMD INSTALL BayesKnockdown StartedAt: 2023-04-16 14:21:02 -0400 (Sun, 16 Apr 2023) EndedAt: 2023-04-16 14:21:08 -0400 (Sun, 16 Apr 2023) EllapsedTime: 5.1 seconds RetCode: 0 Status: OK