Package: BayesKnockdown Version: 1.24.0 Command: /Library/Frameworks/R.framework/Resources/bin/R CMD build --keep-empty-dirs --no-resave-data BayesKnockdown StartedAt: 2023-04-16 20:55:42 -0400 (Sun, 16 Apr 2023) EndedAt: 2023-04-16 20:55:53 -0400 (Sun, 16 Apr 2023) EllapsedTime: 11.1 seconds RetCode: 0 Status: OK PackageFile: BayesKnockdown_1.24.0.tar.gz PackageFileSize: 211.1 KiB