Package: BayesKnockdown Version: 1.24.0 Command: rm -rf BayesKnockdown.buildbin-libdir && mkdir BayesKnockdown.buildbin-libdir && /Users/biocbuild/BBS/utils/build-universal.sh BayesKnockdown_1.24.0.tar.gz /Library/Frameworks/R.framework/Resources/bin/R BayesKnockdown.buildbin-libdir StartedAt: 2023-04-18 13:47:50 -0400 (Tue, 18 Apr 2023) EndedAt: 2023-04-18 13:47:59 -0400 (Tue, 18 Apr 2023) EllapsedTime: 9.7 seconds RetCode: 0 Status: OK PackageFile: BayesKnockdown_1.24.0.tgz PackageFileSize: 225 KiB