git_url: https://git.bioconductor.org/packages/BatchQC git_branch: RELEASE_3_16 git_last_commit: c593445 git_last_commit_date: 2022-11-01 11:13:30 -0400 (Tue, 01 Nov 2022) Package: BatchQC Version: 1.26.0 Maintainer: Solaiappan Manimaran MaintainerEmail: manimaran_1975 at hotmail.com