Package: BUSseq Version: 1.4.2 Command: /Library/Frameworks/R.framework/Resources/bin/R CMD INSTALL BUSseq StartedAt: 2023-04-16 14:55:47 -0400 (Sun, 16 Apr 2023) EndedAt: 2023-04-16 14:56:24 -0400 (Sun, 16 Apr 2023) EllapsedTime: 37.7 seconds RetCode: 0 Status: OK