Package: BPRMeth Version: 1.24.2 Command: /Library/Frameworks/R.framework/Resources/bin/R CMD INSTALL BPRMeth StartedAt: 2023-04-16 18:50:17 -0400 (Sun, 16 Apr 2023) EndedAt: 2023-04-16 18:50:52 -0400 (Sun, 16 Apr 2023) EllapsedTime: 34.8 seconds RetCode: 0 Status: OK