Package: BDMMAcorrect Version: 1.16.2 Command: /Library/Frameworks/R.framework/Resources/bin/R CMD INSTALL BDMMAcorrect StartedAt: 2023-04-16 14:57:11 -0400 (Sun, 16 Apr 2023) EndedAt: 2023-04-16 14:58:06 -0400 (Sun, 16 Apr 2023) EllapsedTime: 55.7 seconds RetCode: 0 Status: OK