Package: BASiCStan Version: 1.0.0 Command: /Library/Frameworks/R.framework/Resources/bin/R CMD INSTALL BASiCStan StartedAt: 2023-04-16 17:41:37 -0400 (Sun, 16 Apr 2023) EndedAt: 2023-04-16 17:46:09 -0400 (Sun, 16 Apr 2023) EllapsedTime: 272.2 seconds RetCode: 0 Status: OK