Package: BASiCStan Version: 1.0.0 Command: /Library/Frameworks/R.framework/Resources/bin/R CMD build --keep-empty-dirs --no-resave-data BASiCStan StartedAt: 2023-04-16 20:50:18 -0400 (Sun, 16 Apr 2023) EndedAt: 2023-04-16 20:53:39 -0400 (Sun, 16 Apr 2023) EllapsedTime: 200.6 seconds RetCode: 0 Status: OK PackageFile: BASiCStan_1.0.0.tar.gz PackageFileSize: 58.63 KiB