Package: BASiCStan Version: 1.0.0 Command: rm -rf BASiCStan.buildbin-libdir && mkdir BASiCStan.buildbin-libdir && /Users/biocbuild/BBS/utils/build-universal.sh BASiCStan_1.0.0.tar.gz /Library/Frameworks/R.framework/Resources/bin/R BASiCStan.buildbin-libdir StartedAt: 2023-04-18 13:46:05 -0400 (Tue, 18 Apr 2023) EndedAt: 2023-04-18 13:53:41 -0400 (Tue, 18 Apr 2023) EllapsedTime: 455.5 seconds RetCode: 0 Status: OK PackageFile: BASiCStan_1.0.0.tgz PackageFileSize: 929.6 KiB