Package: BADER Version: 1.36.0 Command: /Library/Frameworks/R.framework/Resources/bin/R CMD INSTALL BADER StartedAt: 2023-04-16 14:05:02 -0400 (Sun, 16 Apr 2023) EndedAt: 2023-04-16 14:05:07 -0400 (Sun, 16 Apr 2023) EllapsedTime: 5.1 seconds RetCode: 0 Status: OK