Package: AnVILPublish
Version: 1.8.0
Command: /Library/Frameworks/R.framework/Resources/bin/R CMD INSTALL AnVILPublish
StartedAt: 2023-04-16 15:23:07 -0400 (Sun, 16 Apr 2023)
EndedAt: 2023-04-16 15:23:18 -0400 (Sun, 16 Apr 2023)
EllapsedTime: 10.9 seconds
RetCode: 0
Status: OK