Package: AnVIL
Version: 1.10.2
Command: /Library/Frameworks/R.framework/Resources/bin/R CMD INSTALL AnVIL
StartedAt: 2023-04-16 15:05:42 -0400 (Sun, 16 Apr 2023)
EndedAt: 2023-04-16 15:05:53 -0400 (Sun, 16 Apr 2023)
EllapsedTime: 11.1 seconds
RetCode: 0
Status: OK